BEGIN:VCALENDAR
VERSION:2.0
PRODID:-//Clear Choice Natural Healthcare - ECPv6.15.20//NONSGML v1.0//EN
CALSCALE:GREGORIAN
METHOD:PUBLISH
X-ORIGINAL-URL:https://ccnhc.com
X-WR-CALDESC:Events for Clear Choice Natural Healthcare
REFRESH-INTERVAL;VALUE=DURATION:PT1H
X-Robots-Tag:noindex
X-PUBLISHED-TTL:PT1H
BEGIN:VTIMEZONE
TZID:UTC
BEGIN:STANDARD
TZOFFSETFROM:+0000
TZOFFSETTO:+0000
TZNAME:UTC
DTSTART:20250101T000000
END:STANDARD
END:VTIMEZONE
BEGIN:VEVENT
DTSTART;TZID=UTC:20260513T063000
DTEND;TZID=UTC:20260513T193000
DTSTAMP:20260423T181917
CREATED:20260422T211833Z
LAST-MODIFIED:20260422T211833Z
UID:1999-1778653800-1778700600@ccnhc.com
SUMMARY:Seasonal Allergy Seminar
DESCRIPTION: 
URL:https://ccnhc.com/event/seasonal-allergy-seminar/
LOCATION:Clear Choice Natural Healthcare\, 1953 W. South Blvd.\, Troy\, MI\, 48098\, United States
END:VEVENT
BEGIN:VEVENT
DTSTART;TZID=UTC:20260513T183000
DTEND;TZID=UTC:20260513T193000
DTSTAMP:20260423T181917
CREATED:20260422T213324Z
LAST-MODIFIED:20260422T213324Z
UID:2014-1778697000-1778700600@ccnhc.com
SUMMARY:Seasonal Allergies Seminar
DESCRIPTION:
URL:https://ccnhc.com/event/seasonal-allergies-seminar/
LOCATION:Clear Choice Natural Healthcare\, 1953 W. South Blvd.\, Troy\, MI\, 48098\, United States
END:VEVENT
BEGIN:VEVENT
DTSTART;TZID=UTC:20260513T183000
DTEND;TZID=UTC:20260513T193000
DTSTAMP:20260423T181917
CREATED:20260422T215625Z
LAST-MODIFIED:20260422T215640Z
UID:2023-1778697000-1778700600@ccnhc.com
SUMMARY:Seasonal Allergies Seminar
DESCRIPTION:
URL:https://ccnhc.com/event/seasonal-allergies-seminar-2/
LOCATION:Clear Choice Natural Healthcare\, 1953 W. South Blvd.\, Troy\, MI\, 48098\, United States
END:VEVENT
END:VCALENDAR