BEGIN:VCALENDAR
VERSION:2.0
PRODID:-//Clear Choice Natural Healthcare - ECPv6.15.20//NONSGML v1.0//EN
CALSCALE:GREGORIAN
METHOD:PUBLISH
X-ORIGINAL-URL:https://ccnhc.com
X-WR-CALDESC:Events for Clear Choice Natural Healthcare
REFRESH-INTERVAL;VALUE=DURATION:PT1H
X-Robots-Tag:noindex
X-PUBLISHED-TTL:PT1H
BEGIN:VTIMEZONE
TZID:America/Halifax
BEGIN:DAYLIGHT
TZOFFSETFROM:-0400
TZOFFSETTO:-0300
TZNAME:ADT
DTSTART:20240310T060000
END:DAYLIGHT
BEGIN:STANDARD
TZOFFSETFROM:-0300
TZOFFSETTO:-0400
TZNAME:AST
DTSTART:20241103T050000
END:STANDARD
BEGIN:DAYLIGHT
TZOFFSETFROM:-0400
TZOFFSETTO:-0300
TZNAME:ADT
DTSTART:20250309T060000
END:DAYLIGHT
BEGIN:STANDARD
TZOFFSETFROM:-0300
TZOFFSETTO:-0400
TZNAME:AST
DTSTART:20251102T050000
END:STANDARD
BEGIN:DAYLIGHT
TZOFFSETFROM:-0400
TZOFFSETTO:-0300
TZNAME:ADT
DTSTART:20260308T060000
END:DAYLIGHT
BEGIN:STANDARD
TZOFFSETFROM:-0300
TZOFFSETTO:-0400
TZNAME:AST
DTSTART:20261101T050000
END:STANDARD
END:VTIMEZONE
BEGIN:VTIMEZONE
TZID:UTC
BEGIN:STANDARD
TZOFFSETFROM:+0000
TZOFFSETTO:+0000
TZNAME:UTC
DTSTART:20240101T000000
END:STANDARD
END:VTIMEZONE
BEGIN:VEVENT
DTSTART;TZID=America/Halifax:20250630T183000
DTEND;TZID=America/Halifax:20250630T193000
DTSTAMP:20260424T054504
CREATED:20250528T194254Z
LAST-MODIFIED:20250528T194254Z
UID:1898-1751308200-1751311800@ccnhc.com
SUMMARY:THE AMAZING THYROID SEMINAR
DESCRIPTION:
URL:https://ccnhc.com/event/the-amazing-thyroid-seminar/
LOCATION:MI
END:VEVENT
BEGIN:VEVENT
DTSTART;TZID=UTC:20250630T183000
DTEND;TZID=UTC:20250630T193000
DTSTAMP:20260424T054504
CREATED:20250605T173212Z
LAST-MODIFIED:20250605T173214Z
UID:1902-1751308200-1751311800@ccnhc.com
SUMMARY:The Amazing Thyroid!
DESCRIPTION:Learn what it does and how to support this incredible gland. We will review natural\, drugless ways to help restore its function. \nYou will learn its link to: \n\nHeart Health\nDigestive Issues\nWeight Gain\nFatigue\nDepression\nand more!\n\nDon’t settle for false solutions. We will go over things that have been known for years but are now largely ignored by mainstream health care. Additionally\, we will demonstrate how we use Nutrition and Functional Medicine to effectively address thyroid issues. \nFREE\, but seating is limited. Call (248) 879-1900 to reserve a seat.
URL:https://ccnhc.com/event/the-amazing-thyroid/
LOCATION:Clear Choice Natural Healthcare\, 1953 W. South Blvd.\, Troy\, MI\, 48098\, United States
ATTACH;FMTTYPE=image/png:https://ccnhc.com/wp-content/uploads/sites/18/2025/06/CCNHC-31.png
END:VEVENT
END:VCALENDAR